BEGIN:VCALENDAR
VERSION:2.0
PRODID:-//wp-events-plugin.com//7.2.3.1//EN
TZID:America/Los_Angeles
X-WR-TIMEZONE:America/Los_Angeles
BEGIN:VEVENT
UID:210@unscene.tv
DTSTART;TZID=America/Los_Angeles:20261201T200000
DTEND;TZID=America/Los_Angeles:20261201T223000
DTSTAMP:20260101T041112Z
URL:https://unscene.tv/events/the-corey-holcomb-5150-show-2026-12-01/
SUMMARY:The Corey Holcomb 5150 Show
DESCRIPTION:
ATTACH;FMTTYPE=image/jpeg:https://unscene.tv/wp-content/uploads/2025/12/co
 rey-holcomb-5150-show-logo.png
LOCATION:https://youtube.com/@CoreyHolcomb5150Land
END:VEVENT
BEGIN:VTIMEZONE
TZID:America/Los_Angeles
X-LIC-LOCATION:America/Los_Angeles
BEGIN:STANDARD
DTSTART:20261101T010000
TZOFFSETFROM:-0700
TZOFFSETTO:-0800
TZNAME:PST
END:STANDARD
END:VTIMEZONE
END:VCALENDAR